BEGIN:VCALENDAR
VERSION:2.0
METHOD:PUBLISH
PRODID:-//Accessible Web Design//My Calendar//http://www.joedolson.com//v//EN';
BEGIN:VEVENT
UID:4-1
LOCATION:{ical_location}
SUMMARY:Data Management, Analysis &amp; Visualization Using Basic-intermediate Microsoft EXCEL
DTSTAMP:20230413T080000
ORGANIZER;CN=admin:MAILTO:admin@polarists.co.za
DTSTART:20230413T080000
DTEND:20230414T160000
CATEGORIES:General
URL;VALUE=URI:https://polarists.co.za/training-events/data-management-analysis-visualization-using-basic-intermediate-microsoft-excel/?mc_id=4
DESCRIPTION:01 Basic &amp; Intermediate Excel workshop and Timetable – 2022 Date: 13th -14th April Total Course Hours: 16 hours Language: English Type: Hands online training using Case studies Target Group: This course has been developed for people wanting to learn how to produce spreadsheets, work with data and utilize Excel to perform calculations using a variety of common worksheet&hellip;
END:VEVENT
END:VCALENDAR